BEGIN:VCALENDAR
VERSION:2.0
PRODID:-//The Columbus Italian Festival - ECPv6.15.20//NONSGML v1.0//EN
CALSCALE:GREGORIAN
METHOD:PUBLISH
X-ORIGINAL-URL:https://www.columbusitalianfestival.com
X-WR-CALDESC:Events for The Columbus Italian Festival
REFRESH-INTERVAL;VALUE=DURATION:PT1H
X-Robots-Tag:noindex
X-PUBLISHED-TTL:PT1H
BEGIN:VTIMEZONE
TZID:America/New_York
BEGIN:DAYLIGHT
TZOFFSETFROM:-0500
TZOFFSETTO:-0400
TZNAME:EDT
DTSTART:20240310T070000
END:DAYLIGHT
BEGIN:STANDARD
TZOFFSETFROM:-0400
TZOFFSETTO:-0500
TZNAME:EST
DTSTART:20241103T060000
END:STANDARD
BEGIN:DAYLIGHT
TZOFFSETFROM:-0500
TZOFFSETTO:-0400
TZNAME:EDT
DTSTART:20250309T070000
END:DAYLIGHT
BEGIN:STANDARD
TZOFFSETFROM:-0400
TZOFFSETTO:-0500
TZNAME:EST
DTSTART:20251102T060000
END:STANDARD
BEGIN:DAYLIGHT
TZOFFSETFROM:-0500
TZOFFSETTO:-0400
TZNAME:EDT
DTSTART:20260308T070000
END:DAYLIGHT
BEGIN:STANDARD
TZOFFSETFROM:-0400
TZOFFSETTO:-0500
TZNAME:EST
DTSTART:20261101T060000
END:STANDARD
END:VTIMEZONE
BEGIN:VTIMEZONE
TZID:UTC
BEGIN:STANDARD
TZOFFSETFROM:+0000
TZOFFSETTO:+0000
TZNAME:UTC
DTSTART:20240101T000000
END:STANDARD
END:VTIMEZONE
BEGIN:VEVENT
DTSTART;TZID=America/New_York:20251010T210000
DTEND;TZID=America/New_York:20251010T230000
DTSTAMP:20260423T174817
CREATED:20250901T131635Z
LAST-MODIFIED:20250901T133413Z
UID:3264-1760130000-1760137200@www.columbusitalianfestival.com
SUMMARY:Alla Boara
DESCRIPTION:Alla Boara celebrates the deep history of human music-making by cultivating fresh sounds from the ancient roots of regional Italian folk songs. Amanda Powell’s impassioned vocals burst with the drama and humor of Italian life propelled by drummer and ensemble founder Anthony Taddeo. The storytelling behind this daring ensemble is intoxicating and has the dazzling soloing of a veteran jazz ensemble to Taddeo’s imaginative re-composition of these ancient songs\, many of which have disappeared in a tide of modernity. Becca Stevens\, GRAMMY-nominated singer/songwriter praised Alla Boara for “breathing new possibilities into timeless stories while weaving in limitless and unexpected musical flavors\, and the ensemble’s debut recording “Le Tre Sorelle” was praised by Cleveland Magazine for its “top-notch musicianship.” The band has received critical acclaim from NPR’s “Shuffle\,” SWR2 in Germany\, All About Jazz\, Jazz Weekly\, and Cleveland Magazine. From the specific dialects\, stories and songs of Italy’s pre-industrial past spring Alla Boara’s dynamic and touching performances that inspire listeners of any heritage to treasure their ancestral roots and to revel in our shared humanity\, which is as surprising\, playful\, mournful and tender as the songs themselves.
URL:https://www.columbusitalianfestival.com/event/rick-alla-boara/
LOCATION:Carfagna’s Traditional Stage
CATEGORIES:Day 1,Festival Events
ATTACH;FMTTYPE=image/jpeg:https://www.columbusitalianfestival.com/wp-content/uploads/2025/05/image.jpeg
END:VEVENT
BEGIN:VEVENT
DTSTART;TZID=America/New_York:20251010T203000
DTEND;TZID=America/New_York:20251010T230000
DTSTAMP:20260423T174817
CREATED:20220624T144051Z
LAST-MODIFIED:20250809T132624Z
UID:2122-1760128200-1760137200@www.columbusitalianfestival.com
SUMMARY:Long Play
DESCRIPTION:Whether it is the first time you heard your favorite song on the radio or that once in a lifetime concert experience\, Long Play evokes those memories every time they take the stage. \nRelive the moments you can never forget as Long Play masterfully pays tribute to the most iconic classic rock bands: \nQueen\, Boston\, Styx\, Journey\, Led Zeppelin\, and many more. \nBased in Columbus\, Ohio\, Long Play features veteran musicians with decades of experience performing at a high level. \nThe band boasts five strong singers\, allowing for stellar harmonies\, and an ever-changing list of songs at every show.
URL:https://www.columbusitalianfestival.com/event/long-play/
LOCATION:Rosati Windows Contemporary Stage
CATEGORIES:Day 1,Festival Events
ATTACH;FMTTYPE=image/png:https://www.columbusitalianfestival.com/wp-content/uploads/2022/06/image-1.png
END:VEVENT
BEGIN:VEVENT
DTSTART;TZID=America/New_York:20251010T191500
DTEND;TZID=America/New_York:20251010T201500
DTSTAMP:20260423T174817
CREATED:20250807T004203Z
LAST-MODIFIED:20250901T133003Z
UID:3113-1760123700-1760127300@www.columbusitalianfestival.com
SUMMARY:Stromboleros
DESCRIPTION:Authentic Italian dance music that celebrates the culture and many regions of Italia.
URL:https://www.columbusitalianfestival.com/event/stromboleros/
LOCATION:Carfagna’s Traditional Stage
CATEGORIES:Day 1,Festival Events
ATTACH;FMTTYPE=image/jpeg:https://www.columbusitalianfestival.com/wp-content/uploads/2025/08/STROMBOLEROS-Italian-Fest-Promo-Only-scaled.jpg
END:VEVENT
BEGIN:VEVENT
DTSTART;TZID=UTC:20251010T173000
DTEND;TZID=UTC:20251010T194500
DTSTAMP:20260423T174817
CREATED:20180612T220030Z
LAST-MODIFIED:20251009T130526Z
UID:1380-1760117400-1760125500@www.columbusitalianfestival.com
SUMMARY:Blue Cats
DESCRIPTION:Four veteran blues-jazz musicians\, Rick Collura (elec. guitar)\, Terry Finneran (keys\, vocals\, blues harp\, flute)\, Andy Smith (or occasionally Randy Huff) on percussion and York Procter on bass form the core of the Blue Cats.  This 4 piece combo unites to bring you energy intensive\, yet volume controlled original arrangements of favorites from their musical hip pockets. Their experiences include extended support time with local favorites (Willie Pooch\, McGuffey Lane\, John Schwab\, Jim Lynch\, Tony Monaco\, Dave Workman\, Bob Allen\, Tom Carrol\, Hank Marr\, Dave Powers) as well as on stage experience with a variety of national acts including: James Brown\, Albert King\, Luther Allison\, Johnny Winter\, Tom Scott\, Leo Kotke\, Johnny Paycheck\, Jesus Christ Superstar tour\, Dane Donahue\, The Griswolds\, Ray Guy Blues Band\, etc.\, etc.
URL:https://www.columbusitalianfestival.com/event/blue_cats/
LOCATION:Rosati Windows Contemporary Stage
CATEGORIES:Day 1
ATTACH;FMTTYPE=image/jpeg:https://www.columbusitalianfestival.com/wp-content/uploads/2018/06/bluecats.jpg
END:VEVENT
BEGIN:VEVENT
DTSTART;TZID=America/New_York:20251010T173000
DTEND;TZID=America/New_York:20251010T180000
DTSTAMP:20260423T174817
CREATED:20250501T144754Z
LAST-MODIFIED:20250807T155146Z
UID:2917-1760117400-1760119200@www.columbusitalianfestival.com
SUMMARY:San Giovanni Dancers
DESCRIPTION:The San Giovanni Dancers feature authentic dances from the regions of Italy. With colorful costumes and traditional Italian music they are a highlight of the festival. Accompanied by the Stromboleros Band they are a festival favorite that is sure to delight.  Come dance with us\, learn the tarantella and enjoy authentic Italian culture.
URL:https://www.columbusitalianfestival.com/event/san-giovanni-dancers-2/
LOCATION:Carfagna’s Traditional Stage
CATEGORIES:Day 1
ATTACH;FMTTYPE=image/jpeg:https://www.columbusitalianfestival.com/wp-content/uploads/2017/07/slide5.jpg
END:VEVENT
END:VCALENDAR