BEGIN:VCALENDAR
VERSION:2.0
PRODID:-//The Columbus Italian Festival - ECPv6.15.20//NONSGML v1.0//EN
CALSCALE:GREGORIAN
METHOD:PUBLISH
X-ORIGINAL-URL:https://www.columbusitalianfestival.com
X-WR-CALDESC:Events for The Columbus Italian Festival
REFRESH-INTERVAL;VALUE=DURATION:PT1H
X-Robots-Tag:noindex
X-PUBLISHED-TTL:PT1H
BEGIN:VTIMEZONE
TZID:UTC
BEGIN:STANDARD
TZOFFSETFROM:+0000
TZOFFSETTO:+0000
TZNAME:UTC
DTSTART:20240101T000000
END:STANDARD
END:VTIMEZONE
BEGIN:VTIMEZONE
TZID:America/New_York
BEGIN:DAYLIGHT
TZOFFSETFROM:-0500
TZOFFSETTO:-0400
TZNAME:EDT
DTSTART:20240310T070000
END:DAYLIGHT
BEGIN:STANDARD
TZOFFSETFROM:-0400
TZOFFSETTO:-0500
TZNAME:EST
DTSTART:20241103T060000
END:STANDARD
BEGIN:DAYLIGHT
TZOFFSETFROM:-0500
TZOFFSETTO:-0400
TZNAME:EDT
DTSTART:20250309T070000
END:DAYLIGHT
BEGIN:STANDARD
TZOFFSETFROM:-0400
TZOFFSETTO:-0500
TZNAME:EST
DTSTART:20251102T060000
END:STANDARD
BEGIN:DAYLIGHT
TZOFFSETFROM:-0500
TZOFFSETTO:-0400
TZNAME:EDT
DTSTART:20260308T070000
END:DAYLIGHT
BEGIN:STANDARD
TZOFFSETFROM:-0400
TZOFFSETTO:-0500
TZNAME:EST
DTSTART:20261101T060000
END:STANDARD
END:VTIMEZONE
BEGIN:VEVENT
DTSTART;TZID=UTC:20251012T173000
DTEND;TZID=UTC:20251012T190000
DTSTAMP:20260423T162232
CREATED:20250501T140956Z
LAST-MODIFIED:20250901T151220Z
UID:2894-1760290200-1760295600@www.columbusitalianfestival.com
SUMMARY:Micheal Castaldo with the Rick Brunetto Big Band
DESCRIPTION:michéal CASTALDO\n\nArtist/Producer/Songwriter\n\n \nmichéal CASTALDO is an award-winning singer/songwriter\, producer\, and entrepreneur from New York City. Music is a lifelong passion\, and he loves performing his heart-warming Italian songs to adoring audiences.\n\nMichéal is a native of Calabria in the “tip of the toe” of Italy\, is an accomplished pop-classical crossover singer of his native songs and a purveyor of his family-made\, heirloom Italian luxury products. Michéal’s music has become synonymous with authentic Italian experiences and products for North Americans in love with Italian culture\nMichéal was chosen third among “Europe’s Best Crossover Performers\,” and in 2011\, named “Indie Artist of the Year” by Classical-Crossover UK. He was also awarded a prestigious Abe Olman Scholarship by the Songwriters Hall of Fame.\nAccompanied by Rick Brunetto’s 17-piece Orchestra it is a truly amazing production that reminds you of the beautiful memories of past\, present & beyond. You will be talking about this wonderful spectacle for a long time to come. \n 
URL:https://www.columbusitalianfestival.com/event/micheal-castaldo-2025-10-12/
LOCATION:Carfagna’s Traditional Stage
CATEGORIES:Church Events,Day 3,Featured Event
ATTACH;FMTTYPE=image/jpeg:https://www.columbusitalianfestival.com/wp-content/uploads/2025/05/Micheal-Castaldo.jpg
END:VEVENT
BEGIN:VEVENT
DTSTART;TZID=UTC:20251012T160000
DTEND;TZID=UTC:20251012T180000
DTSTAMP:20260423T162232
CREATED:20250501T141524Z
LAST-MODIFIED:20250807T153625Z
UID:2897-1760284800-1760292000@www.columbusitalianfestival.com
SUMMARY:Gas Pump Jockeys with Mike Losekamp from Cyrkle and Dean Kastran from Ohio Express
DESCRIPTION:The Gas Pump Jockeys are very excited to feature Mike Losekamp formerly of the band Cyrkle and Dean Kastran from The Ohio Express.\nYou will hear Mike and Dean sing their gold record hits. \nAlso this year they are joined by special guests Dean Kastran & Dale Powers\, founding members of The Ohio Express. (“Yummy Yummy Yummy”\, “Chewy Chewy Chewy”).\nIn their vintage gas attendant costumes\, The Gas Pump Jockeys hit the stage to become the ultimate Garage band. A veteran band\, The Jockeys have been dispensing great retro-rock (or as they like to call it “petro-rock”) for over two decades! Incredibly they have staged over 1\,100 live performances! Incredibly the band recently performed their milestone 50\,000th live song. How many bands can make a claim like that? That is a lot of music. \nTheir success can be attributed to not only their strong musical and vocal skills\, but to their full service approach to their show. When you come to a performance by The Gas Pump Jockeys\, you will need to come prepared to laugh\, to clap and to sing a-long as the audience becomes an equally important part of their presentation. \nThe band wants you to have fun!! That is what makes them a full service musical act\, guaranteed to make your audience wanting more and more.
URL:https://www.columbusitalianfestival.com/event/cyrkle-2025-10-12/
LOCATION:Rosati Windows Contemporary Stage
CATEGORIES:Day 3,Featured Event
ATTACH;FMTTYPE=image/jpeg:https://www.columbusitalianfestival.com/wp-content/uploads/2017/07/Ohio-Express-4X5-e1537697703837.jpg
END:VEVENT
BEGIN:VEVENT
DTSTART;TZID=America/New_York:20251011T203000
DTEND;TZID=America/New_York:20251011T230000
DTSTAMP:20260423T162232
CREATED:20180420T155948Z
LAST-MODIFIED:20250807T154248Z
UID:1323-1760214600-1760223600@www.columbusitalianfestival.com
SUMMARY:PopGun
DESCRIPTION:PopGun is made up of the best musicians in the Midwest. They play the finest pop and rock music from the late 60’s through the 80’s\, often covering your favorite music that other bands simply cannot pull off. Expertly performed music from Queen\, Paul Simon\, Led Zeppelin\, ELO\, The Beatles\, Wings\, Talking Heads\, Cheap Trick\, Billy Squire\, Stevie Wonder\, and more\, will leave you reeling and feeling like you’ve just taken part in something special.
URL:https://www.columbusitalianfestival.com/event/john-schwab-party-band/
LOCATION:Rosati Windows Contemporary Stage
CATEGORIES:Day 2,Featured Event
ATTACH;FMTTYPE=image/png:https://www.columbusitalianfestival.com/wp-content/uploads/2018/04/image-1-e1626175911795.png
END:VEVENT
BEGIN:VEVENT
DTSTART;TZID=UTC:20251011T201500
DTEND;TZID=UTC:20251011T220000
DTSTAMP:20260423T162232
CREATED:20250808T101702Z
LAST-MODIFIED:20250901T151321Z
UID:3172-1760213700-1760220000@www.columbusitalianfestival.com
SUMMARY:Micheal Castaldo
DESCRIPTION:michéal CASTALDO\nArtist/Producer/Songwriter\n \nmichéal CASTALDO is an award-winning singer/songwriter\, producer\, and entrepreneur from New York City. Music is a lifelong passion\, and he loves performing his heart-warming Italian songs to adoring audiences.Michéal is a native of Calabria in the “tip of the toe” of Italy\, is an accomplished pop-classical crossover singer of his native songs and a purveyor of his family-made\, heirloom Italian luxury products. Michéal’s music has become synonymous with authentic Italian experiences and products for North Americans in love with Italian cultureMichéal was chosen third among “Europe’s Best Crossover Performers\,” and in 2011\, named “Indie Artist of the Year” by Classical-Crossover UK. He was also awarded a prestigious Abe Olman Scholarship by the Songwriters Hall of Fame.\nAccompanied by Rick Brunetto’s 17-piece Orchestra it is a truly amazing production that reminds you of the beautiful memories of past\, present & beyond. You will be talking about this wonderful spectacle for a long time to come.
URL:https://www.columbusitalianfestival.com/event/micheal-castaldo/
LOCATION:Carfagna’s Traditional Stage
CATEGORIES:Day 2,Featured Event,Festival Events
ATTACH;FMTTYPE=image/jpeg:https://www.columbusitalianfestival.com/wp-content/uploads/2025/05/Micheal-Castaldo.jpg
END:VEVENT
END:VCALENDAR