BEGIN:VCALENDAR
VERSION:2.0
PRODID:-//The Columbus Italian Festival - ECPv6.15.20//NONSGML v1.0//EN
CALSCALE:GREGORIAN
METHOD:PUBLISH
X-ORIGINAL-URL:https://www.columbusitalianfestival.com
X-WR-CALDESC:Events for The Columbus Italian Festival
REFRESH-INTERVAL;VALUE=DURATION:PT1H
X-Robots-Tag:noindex
X-PUBLISHED-TTL:PT1H
BEGIN:VTIMEZONE
TZID:UTC
BEGIN:STANDARD
TZOFFSETFROM:+0000
TZOFFSETTO:+0000
TZNAME:UTC
DTSTART:20240101T000000
END:STANDARD
END:VTIMEZONE
BEGIN:VTIMEZONE
TZID:America/New_York
BEGIN:DAYLIGHT
TZOFFSETFROM:-0500
TZOFFSETTO:-0400
TZNAME:EDT
DTSTART:20240310T070000
END:DAYLIGHT
BEGIN:STANDARD
TZOFFSETFROM:-0400
TZOFFSETTO:-0500
TZNAME:EST
DTSTART:20241103T060000
END:STANDARD
BEGIN:DAYLIGHT
TZOFFSETFROM:-0500
TZOFFSETTO:-0400
TZNAME:EDT
DTSTART:20250309T070000
END:DAYLIGHT
BEGIN:STANDARD
TZOFFSETFROM:-0400
TZOFFSETTO:-0500
TZNAME:EST
DTSTART:20251102T060000
END:STANDARD
BEGIN:DAYLIGHT
TZOFFSETFROM:-0500
TZOFFSETTO:-0400
TZNAME:EDT
DTSTART:20260308T070000
END:DAYLIGHT
BEGIN:STANDARD
TZOFFSETFROM:-0400
TZOFFSETTO:-0500
TZNAME:EST
DTSTART:20261101T060000
END:STANDARD
END:VTIMEZONE
BEGIN:VEVENT
DTSTART;TZID=UTC:20251011T221500
DTEND;TZID=UTC:20251011T230000
DTSTAMP:20260423T135056
CREATED:20170726T194633Z
LAST-MODIFIED:20251009T130620Z
UID:975-1760220900-1760223600@www.columbusitalianfestival.com
SUMMARY:The Rick Brunetto Big Band with vocalist MaryLee Melendez
DESCRIPTION:As central Ohio’s foremost and finest big band the Rick Brunetto Big Band has been entertaining audiences for over 40 years. This 17-piece orchestra features the music of the 30’s and 40’s swing era on up through the present. On a typical evening you might hear Glenn Miller’s “In The Mood”\, “Moonlight Serenade”\, or swing to the sounds of Tommy Dorsey’s “Opus One\,” the music of Frank Sinatra and Count Basie. The next set you can hear the sounds of Chicago\, Earth Wind and Fire\, Motown or Manilow come alive or see the band bring the house down with Gene Krupa’s “Sing Sing Sing.” \nThey have performed at Caesar’s Palace in Atlantic City with Deana Martin.\nRecently they backed up the Temptations and The Supremes at the Palace Theatre in Columbus. \nCurrently the Rick Brunetto Big Band appears every Friday night at the Valley Dale Ballroom.
URL:https://www.columbusitalianfestival.com/event/dancing-with-the-rick-brunetto-big-band/
LOCATION:Carfagna’s Traditional Stage
CATEGORIES:Day 2,Festival Events
ATTACH;FMTTYPE=image/jpeg:https://www.columbusitalianfestival.com/wp-content/uploads/2017/07/Valli-Band-Pic.jpg
END:VEVENT
BEGIN:VEVENT
DTSTART;TZID=America/New_York:20251011T203000
DTEND;TZID=America/New_York:20251011T230000
DTSTAMP:20260423T135056
CREATED:20180420T155948Z
LAST-MODIFIED:20250807T154248Z
UID:1323-1760214600-1760223600@www.columbusitalianfestival.com
SUMMARY:PopGun
DESCRIPTION:PopGun is made up of the best musicians in the Midwest. They play the finest pop and rock music from the late 60’s through the 80’s\, often covering your favorite music that other bands simply cannot pull off. Expertly performed music from Queen\, Paul Simon\, Led Zeppelin\, ELO\, The Beatles\, Wings\, Talking Heads\, Cheap Trick\, Billy Squire\, Stevie Wonder\, and more\, will leave you reeling and feeling like you’ve just taken part in something special.
URL:https://www.columbusitalianfestival.com/event/john-schwab-party-band/
LOCATION:Rosati Windows Contemporary Stage
CATEGORIES:Day 2,Featured Event
ATTACH;FMTTYPE=image/png:https://www.columbusitalianfestival.com/wp-content/uploads/2018/04/image-1-e1626175911795.png
END:VEVENT
BEGIN:VEVENT
DTSTART;TZID=UTC:20251011T201500
DTEND;TZID=UTC:20251011T220000
DTSTAMP:20260423T135056
CREATED:20250808T101702Z
LAST-MODIFIED:20250901T151321Z
UID:3172-1760213700-1760220000@www.columbusitalianfestival.com
SUMMARY:Micheal Castaldo
DESCRIPTION:michéal CASTALDO\nArtist/Producer/Songwriter\n \nmichéal CASTALDO is an award-winning singer/songwriter\, producer\, and entrepreneur from New York City. Music is a lifelong passion\, and he loves performing his heart-warming Italian songs to adoring audiences.Michéal is a native of Calabria in the “tip of the toe” of Italy\, is an accomplished pop-classical crossover singer of his native songs and a purveyor of his family-made\, heirloom Italian luxury products. Michéal’s music has become synonymous with authentic Italian experiences and products for North Americans in love with Italian cultureMichéal was chosen third among “Europe’s Best Crossover Performers\,” and in 2011\, named “Indie Artist of the Year” by Classical-Crossover UK. He was also awarded a prestigious Abe Olman Scholarship by the Songwriters Hall of Fame.\nAccompanied by Rick Brunetto’s 17-piece Orchestra it is a truly amazing production that reminds you of the beautiful memories of past\, present & beyond. You will be talking about this wonderful spectacle for a long time to come.
URL:https://www.columbusitalianfestival.com/event/micheal-castaldo/
LOCATION:Carfagna’s Traditional Stage
CATEGORIES:Day 2,Featured Event,Festival Events
ATTACH;FMTTYPE=image/jpeg:https://www.columbusitalianfestival.com/wp-content/uploads/2025/05/Micheal-Castaldo.jpg
END:VEVENT
BEGIN:VEVENT
DTSTART;TZID=UTC:20251011T191500
DTEND;TZID=UTC:20251011T194500
DTSTAMP:20260423T135056
CREATED:20250510T211240Z
LAST-MODIFIED:20250807T154352Z
UID:2950-1760210100-1760211900@www.columbusitalianfestival.com
SUMMARY:San Giovanni Dancers
DESCRIPTION:The San Giovanni Dancers feature authentic dances from the regions of Italy. With colorful costumes and traditional Italian music they are a highlight of the festival. Accompanied by the Stromboleros Band they are a festival favorite that is sure to delight.  Come dance with us\, learn the tarantella and enjoy authentic Italian culture.
URL:https://www.columbusitalianfestival.com/event/san-giovanni-dancers-2024-10-13-2-2/
LOCATION:Carfagna’s Traditional Stage
CATEGORIES:Day 2
ATTACH;FMTTYPE=image/jpeg:https://www.columbusitalianfestival.com/wp-content/uploads/2017/07/dancers.jpg
END:VEVENT
BEGIN:VEVENT
DTSTART;TZID=America/New_York:20251011T180000
DTEND;TZID=America/New_York:20251011T200000
DTSTAMP:20260423T135056
CREATED:20210713T031625Z
LAST-MODIFIED:20250807T154422Z
UID:1765-1760205600-1760212800@www.columbusitalianfestival.com
SUMMARY:Tae & the Wave
DESCRIPTION:LA-based music artist Dante Brunetto takes listeners on a sonic journey of ups and downs\, and highs and lows with his solo project\, Tae & the Wave.
URL:https://www.columbusitalianfestival.com/event/tae-the-wave/
LOCATION:Rosati Windows Contemporary Stage
CATEGORIES:Day 2,Festival Events
ATTACH;FMTTYPE=image/png:https://www.columbusitalianfestival.com/wp-content/uploads/2021/07/image.png
END:VEVENT
BEGIN:VEVENT
DTSTART;TZID=America/New_York:20251011T170000
DTEND;TZID=America/New_York:20251011T190000
DTSTAMP:20260423T135056
CREATED:20250510T204140Z
LAST-MODIFIED:20250807T154448Z
UID:2940-1760202000-1760209200@www.columbusitalianfestival.com
SUMMARY:Alla Boara
DESCRIPTION:Alla Boara celebrates the deep history of human music-making by cultivating fresh sounds from the ancient roots of regional Italian folk songs. Amanda Powell’s impassioned vocals burst with the drama and humor of Italian life propelled by drummer and ensemble founder Anthony Taddeo. The storytelling behind this daring ensemble is intoxicating and has the dazzling soloing of a veteran jazz ensemble to Taddeo’s imaginative re-composition of these ancient songs\, many of which have disappeared in a tide of modernity. Becca Stevens\, GRAMMY-nominated singer/songwriter praised Alla Boara for “breathing new possibilities into timeless stories while weaving in limitless and unexpected musical flavors\, and the ensemble’s debut recording “Le Tre Sorelle” was praised by Cleveland Magazine for its “top-notch musicianship.” The band has received critical acclaim from NPR’s “Shuffle\,” SWR2 in Germany\, All About Jazz\, Jazz Weekly\, and Cleveland Magazine. From the specific dialects\, stories and songs of Italy’s pre-industrial past spring Alla Boara’s dynamic and touching performances that inspire listeners of any heritage to treasure their ancestral roots and to revel in our shared humanity\, which is as surprising\, playful\, mournful and tender as the songs themselves.
URL:https://www.columbusitalianfestival.com/event/alla-boara-2/
LOCATION:Carfagna’s Traditional Stage
CATEGORIES:Day 2
ATTACH;FMTTYPE=image/jpeg:https://www.columbusitalianfestival.com/wp-content/uploads/2025/05/image.jpeg
END:VEVENT
BEGIN:VEVENT
DTSTART;TZID=UTC:20251011T160000
DTEND;TZID=UTC:20251011T173000
DTSTAMP:20260423T135056
CREATED:20170722T195934Z
LAST-MODIFIED:20250807T154519Z
UID:809-1760198400-1760203800@www.columbusitalianfestival.com
SUMMARY:Chaz and Nicki
DESCRIPTION:Chaz and Nicki are a dynamic duo act that teamed up to create an upbeat live acoustic show that mixes feel-good classic covers with harmony-rich originals. Singer and guitarist Chaz Mechenbier has been performing locally\, nationally and internationally for decades with well known acts such as Jerry Reed\, Ronnie Milsap\, and local favorites\, Phil Dirt and the Dozers. Singer Nicki Baker is a third generation musician from Columbus who grew up on a tour bus singing southern gospel with her family. The duo is in high demand and perform several times weekly at various venues\, festivals\, and events around Ohio.
URL:https://www.columbusitalianfestival.com/event/chaz-mechenbier-and-hang-time/
LOCATION:Rosati Windows Contemporary Stage
CATEGORIES:Day 2
ATTACH;FMTTYPE=image/jpeg:https://www.columbusitalianfestival.com/wp-content/uploads/2017/07/image.jpeg
END:VEVENT
BEGIN:VEVENT
DTSTART;TZID=America/New_York:20251011T150000
DTEND;TZID=America/New_York:20251011T163000
DTSTAMP:20260423T135056
CREATED:20180420T151440Z
LAST-MODIFIED:20250807T154554Z
UID:1308-1760194800-1760200200@www.columbusitalianfestival.com
SUMMARY:Italian Concert Band
DESCRIPTION:The Concert Band has been a tradition at the Italian Festival almost from the beginning. Originally directed by Lucian Tiberi\, then by Gene D’Angelo the band is now under the direction of Rick Brunetto.\nFeaturing some of Columbus’s finest musicians\, this instrumental ensemble celebrates our rich cultural Italian heritage with Italian marches\, Neapolitan favorites and classical music.
URL:https://www.columbusitalianfestival.com/event/italian-concert-band-2/
LOCATION:Carfagna’s Traditional Stage
CATEGORIES:Day 2,Festival Events
ATTACH;FMTTYPE=image/jpeg:https://www.columbusitalianfestival.com/wp-content/uploads/2018/04/Italian-concert-band.jpg
END:VEVENT
BEGIN:VEVENT
DTSTART;TZID=America/New_York:20251011T133000
DTEND;TZID=America/New_York:20251011T143000
DTSTAMP:20260423T135056
CREATED:20250807T130607Z
LAST-MODIFIED:20250807T154630Z
UID:3125-1760189400-1760193000@www.columbusitalianfestival.com
SUMMARY:Stromboleros
DESCRIPTION:Authentic Italian dance music that celebrates the culture and many regions of Italia.
URL:https://www.columbusitalianfestival.com/event/stromboleros-2/
LOCATION:Carfagna’s Traditional Stage
CATEGORIES:Day 2,Festival Events
ATTACH;FMTTYPE=image/jpeg:https://www.columbusitalianfestival.com/wp-content/uploads/2025/08/STROMBOLEROS-Italian-Fest-Promo-Only-scaled.jpg
END:VEVENT
BEGIN:VEVENT
DTSTART;TZID=America/New_York:20251011T130000
DTEND;TZID=America/New_York:20251011T153000
DTSTAMP:20260423T135056
CREATED:20240624T173707Z
LAST-MODIFIED:20250807T154702Z
UID:2525-1760187600-1760196600@www.columbusitalianfestival.com
SUMMARY:Tom Carroll Organic Chemistry
DESCRIPTION:The classic jazz sound of the Hammond organ B3 with guitar and drums will keep your afternoon swingin’ \nTom Carroll\, guitars \nJohn Eshelman\, organ \nSeth Rogers\, drums
URL:https://www.columbusitalianfestival.com/event/tom-carroll-n-strings-and-things/
LOCATION:Rosati Windows Contemporary Stage
CATEGORIES:Day 2,Festival Events
ATTACH;FMTTYPE=image/jpeg:https://www.columbusitalianfestival.com/wp-content/uploads/2024/06/image-2.jpeg
END:VEVENT
BEGIN:VEVENT
DTSTART;TZID=UTC:20251011T130000
DTEND;TZID=UTC:20251011T133000
DTSTAMP:20260423T135056
CREATED:20250510T210618Z
LAST-MODIFIED:20250807T154746Z
UID:2947-1760187600-1760189400@www.columbusitalianfestival.com
SUMMARY:San Giovanni Dancers
DESCRIPTION:The San Giovanni Dancers feature authentic dances from the regions of Italy. With colorful costumes and traditional Italian music they are a highlight of the festival. Accompanied by the Stromboleros Band they are a festival favorite that is sure to delight.  Come dance with us\, learn the tarantella and enjoy authentic Italian culture.
URL:https://www.columbusitalianfestival.com/event/san-giovanni-dancers-2024-10-13-2/
LOCATION:Carfagna’s Traditional Stage
CATEGORIES:Day 2
ATTACH;FMTTYPE=image/jpeg:https://www.columbusitalianfestival.com/wp-content/uploads/2017/07/dancers.jpg
END:VEVENT
END:VCALENDAR