BEGIN:VCALENDAR
VERSION:2.0
PRODID:-//The Columbus Italian Festival - ECPv6.15.20//NONSGML v1.0//EN
CALSCALE:GREGORIAN
METHOD:PUBLISH
X-ORIGINAL-URL:https://www.columbusitalianfestival.com
X-WR-CALDESC:Events for The Columbus Italian Festival
REFRESH-INTERVAL;VALUE=DURATION:PT1H
X-Robots-Tag:noindex
X-PUBLISHED-TTL:PT1H
BEGIN:VTIMEZONE
TZID:UTC
BEGIN:STANDARD
TZOFFSETFROM:+0000
TZOFFSETTO:+0000
TZNAME:UTC
DTSTART:20160101T000000
END:STANDARD
END:VTIMEZONE
BEGIN:VTIMEZONE
TZID:America/New_York
BEGIN:DAYLIGHT
TZOFFSETFROM:-0500
TZOFFSETTO:-0400
TZNAME:EDT
DTSTART:20200308T070000
END:DAYLIGHT
BEGIN:STANDARD
TZOFFSETFROM:-0400
TZOFFSETTO:-0500
TZNAME:EST
DTSTART:20201101T060000
END:STANDARD
BEGIN:DAYLIGHT
TZOFFSETFROM:-0500
TZOFFSETTO:-0400
TZNAME:EDT
DTSTART:20210314T070000
END:DAYLIGHT
BEGIN:STANDARD
TZOFFSETFROM:-0400
TZOFFSETTO:-0500
TZNAME:EST
DTSTART:20211107T060000
END:STANDARD
BEGIN:DAYLIGHT
TZOFFSETFROM:-0500
TZOFFSETTO:-0400
TZNAME:EDT
DTSTART:20220313T070000
END:DAYLIGHT
BEGIN:STANDARD
TZOFFSETFROM:-0400
TZOFFSETTO:-0500
TZNAME:EST
DTSTART:20221106T060000
END:STANDARD
END:VTIMEZONE
BEGIN:VEVENT
DTSTART;TZID=UTC:20251012T173000
DTEND;TZID=UTC:20251012T190000
DTSTAMP:20260423T175145
CREATED:20250501T140956Z
LAST-MODIFIED:20250901T151220Z
UID:2894-1760290200-1760295600@www.columbusitalianfestival.com
SUMMARY:Micheal Castaldo with the Rick Brunetto Big Band
DESCRIPTION:michéal CASTALDO\n\nArtist/Producer/Songwriter\n\n \nmichéal CASTALDO is an award-winning singer/songwriter\, producer\, and entrepreneur from New York City. Music is a lifelong passion\, and he loves performing his heart-warming Italian songs to adoring audiences.\n\nMichéal is a native of Calabria in the “tip of the toe” of Italy\, is an accomplished pop-classical crossover singer of his native songs and a purveyor of his family-made\, heirloom Italian luxury products. Michéal’s music has become synonymous with authentic Italian experiences and products for North Americans in love with Italian culture\nMichéal was chosen third among “Europe’s Best Crossover Performers\,” and in 2011\, named “Indie Artist of the Year” by Classical-Crossover UK. He was also awarded a prestigious Abe Olman Scholarship by the Songwriters Hall of Fame.\nAccompanied by Rick Brunetto’s 17-piece Orchestra it is a truly amazing production that reminds you of the beautiful memories of past\, present & beyond. You will be talking about this wonderful spectacle for a long time to come. \n 
URL:https://www.columbusitalianfestival.com/event/micheal-castaldo-2025-10-12/
LOCATION:Carfagna’s Traditional Stage
CATEGORIES:Church Events,Day 3,Featured Event
ATTACH;FMTTYPE=image/jpeg:https://www.columbusitalianfestival.com/wp-content/uploads/2025/05/Micheal-Castaldo.jpg
END:VEVENT
BEGIN:VEVENT
DTSTART;TZID=America/New_York:20211008T190000
DTEND;TZID=America/New_York:20211008T200000
DTSTAMP:20260423T175145
CREATED:20210925T133313Z
LAST-MODIFIED:20210925T135338Z
UID:1924-1633719600-1633723200@www.columbusitalianfestival.com
SUMMARY:Church Tour
DESCRIPTION:See and learn the history of the magnificent St. John the Baptist Catholic Church.
URL:https://www.columbusitalianfestival.com/event/church-tour/
CATEGORIES:Church Events
ATTACH;FMTTYPE=image/jpeg:https://www.columbusitalianfestival.com/wp-content/uploads/2017/07/video.jpg
END:VEVENT
BEGIN:VEVENT
DTSTART;TZID=America/New_York:20211008T180000
DTEND;TZID=America/New_York:20211008T213000
DTSTAMP:20260423T175145
CREATED:20210925T132632Z
LAST-MODIFIED:20210925T134359Z
UID:1920-1633716000-1633728600@www.columbusitalianfestival.com
SUMMARY:Catholic Answers Room
DESCRIPTION:Have questions about the Catholic faith?  Faithful parishoners will be on hand to answer your questions
URL:https://www.columbusitalianfestival.com/event/catholic-answers-room/
CATEGORIES:Church Events
END:VEVENT
BEGIN:VEVENT
DTSTART;TZID=UTC:20181007T101500
DTEND;TZID=UTC:20181007T223000
DTSTAMP:20260423T175145
CREATED:20170726T003530Z
LAST-MODIFIED:20180421T211650Z
UID:935-1538907300-1538951400@www.columbusitalianfestival.com
SUMMARY:Italian Procession
DESCRIPTION:
URL:https://www.columbusitalianfestival.com/event/italian-procession/
CATEGORIES:Church Events
END:VEVENT
BEGIN:VEVENT
DTSTART;TZID=UTC:20171008T120000
DTEND;TZID=UTC:20171008T123000
DTSTAMP:20260423T175145
CREATED:20170725T000120Z
LAST-MODIFIED:20170725T000434Z
UID:864-1507464000-1507465800@www.columbusitalianfestival.com
SUMMARY:Church Tours
DESCRIPTION:
URL:https://www.columbusitalianfestival.com/event/church-tours-3/
CATEGORIES:Church Events
END:VEVENT
BEGIN:VEVENT
DTSTART;TZID=UTC:20171007T141500
DTEND;TZID=UTC:20171007T144500
DTSTAMP:20260423T175145
CREATED:20170725T002107Z
LAST-MODIFIED:20170725T002107Z
UID:895-1507385700-1507387500@www.columbusitalianfestival.com
SUMMARY:Gina Bishop
DESCRIPTION:
URL:https://www.columbusitalianfestival.com/event/gina-bishop/
CATEGORIES:Church Events
END:VEVENT
BEGIN:VEVENT
DTSTART;TZID=UTC:20171007T133000
DTEND;TZID=UTC:20171007T140000
DTSTAMP:20260423T175145
CREATED:20170725T002826Z
LAST-MODIFIED:20170726T003305Z
UID:899-1507383000-1507384800@www.columbusitalianfestival.com
SUMMARY:Ruffatti Organ Demo - John C. Hoffman
DESCRIPTION:
URL:https://www.columbusitalianfestival.com/event/ruffatti-organ-demo-john-c-hoffman/
CATEGORIES:Church Events
END:VEVENT
BEGIN:VEVENT
DTSTART;TZID=UTC:20171007T130000
DTEND;TZID=UTC:20171007T190000
DTSTAMP:20260423T175145
CREATED:20170726T000211Z
LAST-MODIFIED:20170726T000211Z
UID:921-1507381200-1507402800@www.columbusitalianfestival.com
SUMMARY:Catholic Answers & Prayer Room
DESCRIPTION:
URL:https://www.columbusitalianfestival.com/event/catholic-answers-prayer-room/
CATEGORIES:Church Events
END:VEVENT
BEGIN:VEVENT
DTSTART;TZID=UTC:20171007T130000
DTEND;TZID=UTC:20171007T133000
DTSTAMP:20260423T175145
CREATED:20170724T235713Z
LAST-MODIFIED:20170728T011522Z
UID:855-1507381200-1507383000@www.columbusitalianfestival.com
SUMMARY:Church Tours
DESCRIPTION:
URL:https://www.columbusitalianfestival.com/event/church-tours-2/
CATEGORIES:Church Events
END:VEVENT
BEGIN:VEVENT
DTSTART;TZID=UTC:20171006T180000
DTEND;TZID=UTC:20171006T183000
DTSTAMP:20260423T175145
CREATED:20170725T001201Z
LAST-MODIFIED:20170727T221720Z
UID:882-1507312800-1507314600@www.columbusitalianfestival.com
SUMMARY:Mary Helen Colleli
DESCRIPTION:
URL:https://www.columbusitalianfestival.com/event/mary-helen-colleli/
CATEGORIES:Church Events
END:VEVENT
BEGIN:VEVENT
DTSTART;TZID=UTC:20171006T170000
DTEND;TZID=UTC:20171006T173000
DTSTAMP:20260423T175145
CREATED:20170724T234158Z
LAST-MODIFIED:20170724T235913Z
UID:817-1507309200-1507311000@www.columbusitalianfestival.com
SUMMARY:Church Tours
DESCRIPTION:
URL:https://www.columbusitalianfestival.com/event/church-tours/
CATEGORIES:Church Events
END:VEVENT
END:VCALENDAR